BEGIN:VCALENDAR
PRODID:-//AT Content Types//AT Event//EN
VERSION:1.0
BEGIN:VEVENT
DTSTART:20261219T080000Z
DTEND:20261220T140000Z
DCREATED:20260108T083421Z
UID:ATEvent-c45cb15e347947f0be719c875f276285
SEQUENCE:0
LAST-MODIFIED:20260108T082429Z
SUMMARY:20º Abierto internacional de Andalucía
PRIORITY:3
TRANSP:0
END:VEVENT
END:VCALENDAR
