BEGIN:VCALENDAR
PRODID:-//AT Content Types//AT Event//EN
VERSION:2.0
METHOD:PUBLISH
BEGIN:VEVENT
DTSTAMP:20260419T122240Z
CREATED:20260108T084612Z
UID:ATEvent-0e04b0bd8d4949d4b59deb167a7335d1
LAST-MODIFIED:20260108T083638Z
SUMMARY:41º Zurich Maratón de Sevilla
DTSTART:20260215T073000Z
DTEND:20260215T133000Z
URL:https://www.zurichmaratonsevilla.es/
CLASS:PUBLIC
END:VEVENT
END:VCALENDAR
