BEGIN:VCALENDAR
PRODID:-//AT Content Types//AT Event//EN
VERSION:1.0
BEGIN:VEVENT
DTSTART:20260109T080000Z
DTEND:20260117T130000Z
DCREATED:20260108T075421Z
UID:ATEvent-c7294c53d77f429292c70190b3dd52ea
SEQUENCE:0
LAST-MODIFIED:20260108T075428Z
SUMMARY:51 Abierto Internacional de Ajedrez Ciudad de Sevilla
PRIORITY:3
TRANSP:0
END:VEVENT
END:VCALENDAR
