BEGIN:VCALENDAR
PRODID:-//AT Content Types//AT Event//EN
VERSION:1.0
BEGIN:VEVENT
DTSTART:20261114T100000Z
DTEND:20261114T130000Z
DCREATED:20260108T082333Z
UID:ATEvent-f7c1d4a3a9ff49f99be3e43596d7f207
SEQUENCE:0
LAST-MODIFIED:20260108T083331Z
SUMMARY:60ª Regata Sevilla-Betis
PRIORITY:3
TRANSP:0
END:VEVENT
END:VCALENDAR
