BEGIN:VCALENDAR
PRODID:-//AT Content Types//AT Event//EN
VERSION:2.0
METHOD:PUBLISH
BEGIN:VEVENT
DTSTAMP:20260419T122606Z
CREATED:20250530T072218Z
UID:ATEvent-6ad9ef7e3dfe49d7bc96224a6b9774c5
LAST-MODIFIED:20250530T072222Z
SUMMARY:ATP Copa Sevilla Challenger de Tenis
DTSTART:20250901T070000Z
DTEND:20250906T200000Z
LOCATION:Real Club Tenis Betis
URL:https://copasevilla.com/
CLASS:PUBLIC
END:VEVENT
END:VCALENDAR
