BEGIN:VCALENDAR
PRODID:-//AT Content Types//AT Event//EN
VERSION:2.0
METHOD:PUBLISH
BEGIN:VEVENT
DTSTAMP:20260419T124326Z
CREATED:20260108T082652Z
UID:ATEvent-244b135c7bbf4cfd80dadd9e19dc57f2
LAST-MODIFIED:20260108T082655Z
SUMMARY:Campeonatos de España de remo olímpico alevín\, infantil y veterano
DTSTART:20260703T070000Z
DTEND:20260705T130000Z
CLASS:PUBLIC
END:VEVENT
END:VCALENDAR
