BEGIN:VCALENDAR
PRODID:-//AT Content Types//AT Event//EN
VERSION:1.0
BEGIN:VEVENT
DTSTART:20261115T090000Z
DTEND:20261115T123000Z
DCREATED:20260109T074421Z
UID:ATEvent-8a563891d56247f181c6854601942abd
SEQUENCE:0
LAST-MODIFIED:20260109T074517Z
SUMMARY:Carrera de la Mujer - Sevilla
PRIORITY:3
TRANSP:0
END:VEVENT
END:VCALENDAR
