BEGIN:VCALENDAR
PRODID:-//AT Content Types//AT Event//EN
VERSION:1.0
BEGIN:VEVENT
DTSTART:20261220T100000Z
DTEND:20261220T123000Z
DCREATED:20260109T075601Z
UID:ATEvent-7521a4782e7746dc9eeebd6969fbdf77
SEQUENCE:0
LAST-MODIFIED:20260109T074608Z
SUMMARY:Carrera de la Navidad
PRIORITY:3
TRANSP:0
END:VEVENT
END:VCALENDAR
