BEGIN:VCALENDAR
PRODID:-//AT Content Types//AT Event//EN
VERSION:2.0
METHOD:PUBLISH
BEGIN:VEVENT
DTSTAMP:20260419T122751Z
CREATED:20260108T091312Z
UID:ATEvent-4d2efb2f8ce44e8ebd000fcc717b7d60
LAST-MODIFIED:20260108T090819Z
SUMMARY:Circuito Divina Seguros de Carreras del Ayuntamiento: Carrera Triana - Los Remedios 'Torre Sevilla'
DTSTART:20260315T080000Z
DTEND:20260315T123000Z
URL:https://imd.sevilla.org/programas-deportivos/circuito-carreras-sevilla10
CLASS:PUBLIC
END:VEVENT
END:VCALENDAR
