BEGIN:VCALENDAR
PRODID:-//AT Content Types//AT Event//EN
VERSION:2.0
METHOD:PUBLISH
BEGIN:VEVENT
DTSTAMP:20260419T124618Z
CREATED:20260108T092401Z
UID:ATEvent-6d5e5cc1c5794fcea8d2a78a5bc4fb86
LAST-MODIFIED:20260108T092404Z
SUMMARY:Circuito Divina Seguros de Carreras del Ayuntamiento: Carrera Casco Antiguo
DTSTART:20261018T070000Z
DTEND:20261018T113000Z
URL:https://imd.sevilla.org/programas-deportivos/circuito-carreras-sevilla10
CLASS:PUBLIC
END:VEVENT
END:VCALENDAR
