BEGIN:VCALENDAR
PRODID:-//AT Content Types//AT Event//EN
VERSION:2.0
METHOD:PUBLISH
BEGIN:VEVENT
DTSTAMP:20260419T140927Z
CREATED:20260108T091709Z
UID:ATEvent-8743bf910a3846d4a754a2d170343b0d
LAST-MODIFIED:20260108T090721Z
SUMMARY:Circuito Divina Seguros de Carreras del Ayuntamiento: Carrera Cerro Amate.
DTSTART:20260412T070000Z
DTEND:20260412T113000Z
URL:https://imd.sevilla.org/programas-deportivos/circuito-carreras-sevilla10
CLASS:PUBLIC
END:VEVENT
END:VCALENDAR
