BEGIN:VCALENDAR
PRODID:-//AT Content Types//AT Event//EN
VERSION:2.0
METHOD:PUBLISH
BEGIN:VEVENT
DTSTAMP:20260419T140949Z
CREATED:20260108T092545Z
UID:ATEvent-cc2be8242ebc408c8eeda6fd02d2abbe
LAST-MODIFIED:20260108T091556Z
SUMMARY:Circuito Divina Seguros de Carreras del Ayuntamiento: Carrera Nervión San Pablo 'El Corte Inglés'
DTSTART:20261004T070000Z
DTEND:20261004T113000Z
URL:https://imd.sevilla.org/programas-deportivos/circuito-carreras-sevilla10
CLASS:PUBLIC
END:VEVENT
END:VCALENDAR
