BEGIN:VCALENDAR
PRODID:-//AT Content Types//AT Event//EN
VERSION:2.0
METHOD:PUBLISH
BEGIN:VEVENT
DTSTAMP:20260423T161733Z
CREATED:20241025T073515Z
UID:ATEvent-cc573eaae8284776aaf0fa7dea90171e
LAST-MODIFIED:20241025T073519Z
SUMMARY:Copa Federación Gimnasia Estética de Grupo
DTSTART:20241116T083000Z
DTEND:20241117T130000Z
LOCATION:Centro Deportivo Amate
URL:https://www.andaluciagym.com/
CLASS:PUBLIC
END:VEVENT
END:VCALENDAR
