BEGIN:VCALENDAR
PRODID:-//AT Content Types//AT Event//EN
VERSION:1.0
BEGIN:VEVENT
DTSTART:20260907T070000Z
DTEND:20260913T200000Z
DCREATED:20260126T133840Z
UID:ATEvent-48f950960c2542f88a4bff062c503876
SEQUENCE:0
LAST-MODIFIED:20260126T134923Z
SUMMARY:Copa Sevilla Challenger de Tenis
LOCATION:Real Club Tenis Betis
PRIORITY:3
TRANSP:0
END:VEVENT
END:VCALENDAR
