BEGIN:VCALENDAR
PRODID:-//AT Content Types//AT Event//EN
VERSION:2.0
METHOD:PUBLISH
BEGIN:VEVENT
DTSTAMP:20260423T064905Z
CREATED:20241205T131228Z
UID:ATEvent-b0b808a793044a65bf329b39b87495a8
LAST-MODIFIED:20241205T131430Z
SUMMARY:Juegos Deportivos Municipales: 2ª jornada Orientación
DTSTART:20250215T080000Z
DTEND:20250215T130000Z
LOCATION:Parque de María Luisa
URL:https://imd.sevilla.org/programas-deportivos/juegos-deportivos-municipales/deportes/orientacion
CLASS:PUBLIC
END:VEVENT
END:VCALENDAR
