BEGIN:VCALENDAR
PRODID:-//AT Content Types//AT Event//EN
VERSION:2.0
METHOD:PUBLISH
BEGIN:VEVENT
DTSTAMP:20260419T122315Z
CREATED:20260126T132234Z
UID:ATEvent-be3a68a8e2ac436bbfb496ae4fd49ef7
LAST-MODIFIED:20260126T132240Z
SUMMARY:Gran Semana del Caballo Angloárabe
DTSTART:20260930T140000Z
DTEND:20261004T120000Z
LOCATION:Parque del Alamillo
URL:https://www.angloarabe.net/
CLASS:PUBLIC
END:VEVENT
END:VCALENDAR
