BEGIN:VCALENDAR
PRODID:-//AT Content Types//AT Event//EN
VERSION:1.0
BEGIN:VEVENT
DTSTART:20240406T070000Z
DTEND:20240406T120000Z
DCREATED:20240404T074301Z
UID:ATEvent-0d9cde9f76224a78ad3eab7744e85ec2
SEQUENCE:0
LAST-MODIFIED:20240404T074310Z
SUMMARY:I Torneo Deporte y Fe
PRIORITY:3
TRANSP:0
END:VEVENT
END:VCALENDAR
