BEGIN:VCALENDAR
PRODID:-//AT Content Types//AT Event//EN
VERSION:1.0
BEGIN:VEVENT
DTSTART:20261017T070000Z
DTEND:20261018T130000Z
DCREATED:20260108T083217Z
UID:ATEvent-9f7e6b012f9c489da4a84eb4e3113b5b
SEQUENCE:0
LAST-MODIFIED:20260108T083220Z
SUMMARY:IX Sevilla International Rowing Masters Regatta
PRIORITY:3
TRANSP:0
END:VEVENT
END:VCALENDAR
