BEGIN:VCALENDAR
PRODID:-//AT Content Types//AT Event//EN
VERSION:1.0
BEGIN:VEVENT
DTSTART:20250208T150000Z
DTEND:20250208T170000Z
DCREATED:20241212T090438Z
UID:ATEvent-fe8e471c273144c4aa220bad4aa5af7d
SEQUENCE:0
LAST-MODIFIED:20241212T091901Z
SUMMARY:Juegos Deportivos Municipales: 2ª jornada Natación Artística
LOCATION:Centro Deportivo San Pablo
PRIORITY:3
TRANSP:0
END:VEVENT
END:VCALENDAR
