BEGIN:VCALENDAR
PRODID:-//AT Content Types//AT Event//EN
VERSION:2.0
METHOD:PUBLISH
BEGIN:VEVENT
DTSTAMP:20260419T124930Z
CREATED:20240313T075447Z
UID:ATEvent-adebd814e04e48bcbbcbc2f553422d29
LAST-MODIFIED:20240313T075459Z
SUMMARY:Sevilla Premier Pádel
DTSTART:20240428T070000Z
DTEND:20240505T120000Z
LOCATION:Estadio de La Cartuja
URL:https://sevillapremierpadel.com/
CLASS:PUBLIC
END:VEVENT
END:VCALENDAR
