BEGIN:VCALENDAR
PRODID:-//AT Content Types//AT Event//EN
VERSION:1.0
BEGIN:VEVENT
DTSTART:20241012T070000Z
DTEND:20241013T120000Z
DCREATED:20240112T093527Z
UID:ATEvent-1a9e4e1793d64791bef4703d71c3b71d
SEQUENCE:0
LAST-MODIFIED:20240112T093532Z
SUMMARY:VII Sevilla International Rowing Masters Regatta
PRIORITY:3
TRANSP:0
END:VEVENT
END:VCALENDAR
