BEGIN:VCALENDAR
PRODID:-//AT Content Types//AT Event//EN
VERSION:2.0
METHOD:PUBLISH
BEGIN:VEVENT
DTSTAMP:20260419T123349Z
CREATED:20240112T093302Z
UID:ATEvent-9eca8b2413c54d388ec9dbf83b60b4be
LAST-MODIFIED:20240112T093424Z
SUMMARY:VIII Regata Nocturna de Triana
DTSTART:20240724T190000Z
DTEND:20240724T213000Z
URL:https://remoandaluz.es/
CLASS:PUBLIC
END:VEVENT
END:VCALENDAR
