BEGIN:VCALENDAR
PRODID:-//AT Content Types//AT Event//EN
VERSION:1.0
BEGIN:VEVENT
DTSTART:20260909T140000Z
DTEND:20260909T153000Z
DCREATED:20260109T075231Z
UID:ATEvent-33d7d9eeb87743c786592e0aae63770e
SEQUENCE:0
LAST-MODIFIED:20260109T075236Z
SUMMARY:Vuelta Ciclista a España: final de la 17ª etapa
PRIORITY:3
TRANSP:0
END:VEVENT
END:VCALENDAR
