BEGIN:VCALENDAR
PRODID:-//AT Content Types//AT Event//EN
VERSION:2.0
METHOD:PUBLISH
BEGIN:VEVENT
DTSTAMP:20260419T171434Z
CREATED:20260108T083116Z
UID:ATEvent-2e69428a50104eacb68a46a46c7da8e9
LAST-MODIFIED:20260108T082126Z
SUMMARY:X Regata Nocturna de Triana
DTSTART:20260722T193000Z
DTEND:20260722T213000Z
CLASS:PUBLIC
END:VEVENT
END:VCALENDAR
