BEGIN:VCALENDAR
PRODID:-//AT Content Types//AT Event//EN
VERSION:1.0
BEGIN:VEVENT
DTSTART:20250525T070000Z
DTEND:20250525T120000Z
DCREATED:20241217T100700Z
UID:ATEvent-624ea62f779b46049462edc5f5289334
SEQUENCE:0
LAST-MODIFIED:20241217T095527Z
SUMMARY:XXVIII Triatlón de Sevilla
PRIORITY:3
TRANSP:0
END:VEVENT
END:VCALENDAR
